BEGIN:VCALENDAR
VERSION:2.0
PRODID:-//Pegasus Sound Therapy - ECPv6.15.20//NONSGML v1.0//EN
CALSCALE:GREGORIAN
METHOD:PUBLISH
X-ORIGINAL-URL:https://www.pegasussoundtherapy.com
X-WR-CALDESC:Events for Pegasus Sound Therapy
REFRESH-INTERVAL;VALUE=DURATION:PT1H
X-Robots-Tag:noindex
X-PUBLISHED-TTL:PT1H
BEGIN:VTIMEZONE
TZID:America/Los_Angeles
BEGIN:DAYLIGHT
TZOFFSETFROM:-0800
TZOFFSETTO:-0700
TZNAME:PDT
DTSTART:20250309T100000
END:DAYLIGHT
BEGIN:STANDARD
TZOFFSETFROM:-0700
TZOFFSETTO:-0800
TZNAME:PST
DTSTART:20251102T090000
END:STANDARD
BEGIN:DAYLIGHT
TZOFFSETFROM:-0800
TZOFFSETTO:-0700
TZNAME:PDT
DTSTART:20260308T100000
END:DAYLIGHT
BEGIN:STANDARD
TZOFFSETFROM:-0700
TZOFFSETTO:-0800
TZNAME:PST
DTSTART:20261101T090000
END:STANDARD
BEGIN:DAYLIGHT
TZOFFSETFROM:-0800
TZOFFSETTO:-0700
TZNAME:PDT
DTSTART:20270314T100000
END:DAYLIGHT
BEGIN:STANDARD
TZOFFSETFROM:-0700
TZOFFSETTO:-0800
TZNAME:PST
DTSTART:20271107T090000
END:STANDARD
END:VTIMEZONE
BEGIN:VEVENT
DTSTART;TZID=America/Los_Angeles:20260609T173000
DTEND;TZID=America/Los_Angeles:20260609T183000
DTSTAMP:20260422T011155
CREATED:20260326T212625Z
LAST-MODIFIED:20260421T215649Z
UID:509-1781026200-1781029800@www.pegasussoundtherapy.com
SUMMARY:Foundation Course: Vedic Chanting for a Healthy Brain
DESCRIPTION:https://www.pegasussoundtherapy.com/wp-content/uploads/2026/03/Maha-Mrtyunjaya-Mantra.mp3\nIntegrate Brain – Body – Mind – Spirit \n\nStarts Tuesday\, June 9th\, and occurs every Tuesday for 6 weeks.\nThis is a Foundation Course to Vedic Chanting\, perfect for beginners.\nA Proven Practice using sound to enhance cognitive function.\nLearn to chant authentic Vedic text in a living South Indian lineage that dates back thousands of years.\nThe price includes the option for a private\, individual Zoom session\nFor other payment options\, please contact Peggy.\n\nPeggy Leviton\, BS\, MM\, Sound Therapist\, is a certified Vedic Chanting Teacher (INDICA/Veda Studies)
URL:https://www.pegasussoundtherapy.com/event/foundation-course-vedic-chanting-for-a-healthy-brain/
LOCATION:Ethos Training Academy\, 4414 S Pacific Hwy\, Phoenix\, OR\, 97535\, United States
CATEGORIES:Vedic Chanting Class
END:VEVENT
BEGIN:VEVENT
DTSTART;TZID=America/Los_Angeles:20260611T173000
DTEND;TZID=America/Los_Angeles:20260611T183000
DTSTAMP:20260422T011155
CREATED:20260402T184141Z
LAST-MODIFIED:20260421T215338Z
UID:569-1781199000-1781202600@www.pegasussoundtherapy.com
SUMMARY:Vedic Chanting: Peace Mantras
DESCRIPTION:Integrate Brain – Body – Mind – Spirit \n\nUse the power of Vedic Shanti Mantras to connect with the natural peace that resides within you.\nChanting authentic Vedic texts in a living South Indian lineage that dates back thousands of years.\nBegins Thursday\, June 11\, 5:30-6:30 pm\nFour weeks long\nPrice includes the option of a private\, individual Zoom session.\nFor other payment options\, please contact Peggy.\n\nPeggy Leviton\, BS\, MM\, Sound Therapist\, is a certified Vedic Chanting Teacher (INDICA/Veda Studies)
URL:https://www.pegasussoundtherapy.com/event/vedic-chanting-peace-mantras/
LOCATION:Ethos Training Academy\, 4414 S Pacific Hwy\, Phoenix\, OR\, 97535\, United States
CATEGORIES:Vedic Chanting Class
END:VEVENT
END:VCALENDAR